Package: microbiomeMarker Version: 1.12.0 Command: /home/biocbuild/R/R/bin/R CMD INSTALL microbiomeMarker StartedAt: 2025-02-03 21:13:05 -0000 (Mon, 03 Feb 2025) EndedAt: 2025-02-03 21:14:06 -0000 (Mon, 03 Feb 2025) EllapsedTime: 61.2 seconds RetCode: 0 Status: OK