Package: midasHLA Version: 1.14.0 Command: /Library/Frameworks/R.framework/Resources/bin/R CMD check --install=check:midasHLA.install-out.txt --library=/Library/Frameworks/R.framework/Resources/library --no-vignettes --timings midasHLA_1.14.0.tar.gz StartedAt: 2025-02-12 01:17:50 -0500 (Wed, 12 Feb 2025) EndedAt: 2025-02-12 01:23:47 -0500 (Wed, 12 Feb 2025) EllapsedTime: 357.0 seconds RetCode: 1 Status: ERROR CheckDir: midasHLA.Rcheck Warnings: NA