Package: midasHLA Version: 1.14.0 Command: rm -rf midasHLA.buildbin-libdir && mkdir midasHLA.buildbin-libdir && /Users/biocbuild/BBS/utils/build-universal.sh midasHLA_1.14.0.tar.gz /Library/Frameworks/R.framework/Resources/bin/R midasHLA.buildbin-libdir StartedAt: 2024-11-20 04:36:41 -0500 (Wed, 20 Nov 2024) EndedAt: 2024-11-20 04:37:33 -0500 (Wed, 20 Nov 2024) EllapsedTime: 52.3 seconds RetCode: 0 Status: OK PackageFile: midasHLA_1.14.0.tgz PackageFileSize: 2.829 MiB