Package: midasHLA Version: 1.14.0 Command: rm -rf midasHLA.buildbin-libdir && mkdir midasHLA.buildbin-libdir && /Users/biocbuild/BBS/utils/build-universal.sh midasHLA_1.14.0.tar.gz /Library/Frameworks/R.framework/Resources/bin/R midasHLA.buildbin-libdir StartedAt: 2025-02-04 13:25:55 -0500 (Tue, 04 Feb 2025) EndedAt: 2025-02-04 13:27:47 -0500 (Tue, 04 Feb 2025) EllapsedTime: 111.7 seconds RetCode: 0 Status: OK PackageFile: midasHLA_1.14.0.tgz PackageFileSize: 2.828 MiB