Package: midasHLA Version: 1.14.0 Command: /home/biocbuild/bbs-3.20-bioc/R/bin/R CMD check --install=check:midasHLA.install-out.txt --library=/home/biocbuild/bbs-3.20-bioc/R/site-library --timings midasHLA_1.14.0.tar.gz StartedAt: 2025-02-04 00:09:06 -0500 (Tue, 04 Feb 2025) EndedAt: 2025-02-04 00:15:29 -0500 (Tue, 04 Feb 2025) EllapsedTime: 383.4 seconds RetCode: 0 Status: WARNINGS CheckDir: midasHLA.Rcheck Warnings: 1