Package: minet Version: 3.64.0 Command: /Library/Frameworks/R.framework/Resources/bin/R CMD INSTALL minet StartedAt: 2025-02-10 18:03:54 -0500 (Mon, 10 Feb 2025) EndedAt: 2025-02-10 18:04:01 -0500 (Mon, 10 Feb 2025) EllapsedTime: 6.8 seconds RetCode: 0 Status: OK