Package: minet Version: 3.64.0 Command: /home/biocbuild/bbs-3.20-bioc/R/bin/R CMD build --keep-empty-dirs --no-resave-data --md5 minet StartedAt: 2025-02-03 18:13:49 -0500 (Mon, 03 Feb 2025) EndedAt: 2025-02-03 18:13:50 -0500 (Mon, 03 Feb 2025) EllapsedTime: 1.0 seconds RetCode: 0 Status: OK PackageFile: minet_3.64.0.tar.gz PackageFileSize: 51.19 KiB