Package: minet Version: 3.64.0 Command: /home/biocbuild/bbs-3.20-bioc/R/bin/R CMD check --install=check:minet.install-out.txt --library=/home/biocbuild/bbs-3.20-bioc/R/site-library --timings minet_3.64.0.tar.gz StartedAt: 2025-02-04 00:09:31 -0500 (Tue, 04 Feb 2025) EndedAt: 2025-02-04 00:09:45 -0500 (Tue, 04 Feb 2025) EllapsedTime: 14.0 seconds RetCode: 0 Status: OK CheckDir: minet.Rcheck Warnings: 0