Package: minet Version: 3.64.0 Command: chmod a+r minet -R && F:\biocbuild\bbs-3.20-bioc\R\bin\R.exe CMD build --keep-empty-dirs --no-resave-data minet StartedAt: 2025-02-10 20:17:53 -0500 (Mon, 10 Feb 2025) EndedAt: 2025-02-10 20:17:57 -0500 (Mon, 10 Feb 2025) EllapsedTime: 3.6 seconds RetCode: 0 Status: OK PackageFile: minet_3.64.0.tar.gz PackageFileSize: 50.1 KiB