Package: minet Version: 3.64.0 Command: F:\biocbuild\bbs-3.20-bioc\R\bin\R.exe CMD INSTALL minet StartedAt: 2025-02-03 16:16:39 -0500 (Mon, 03 Feb 2025) EndedAt: 2025-02-03 16:16:55 -0500 (Mon, 03 Feb 2025) EllapsedTime: 16.3 seconds RetCode: 0 Status: OK