Package: minet Version: 3.64.0 Command: /home/biocbuild/R/R/bin/R CMD check --install=check:minet.install-out.txt --library=/home/biocbuild/R/R/site-library --no-vignettes --timings minet_3.64.0.tar.gz StartedAt: 2025-02-11 08:05:44 -0000 (Tue, 11 Feb 2025) EndedAt: 2025-02-11 08:05:59 -0000 (Tue, 11 Feb 2025) EllapsedTime: 15.0 seconds RetCode: 0 Status: OK CheckDir: minet.Rcheck Warnings: 0