Package: minet Version: 3.64.0 Command: /home/biocbuild/R/R/bin/R CMD INSTALL minet StartedAt: 2025-02-03 21:17:07 -0000 (Mon, 03 Feb 2025) EndedAt: 2025-02-03 21:17:14 -0000 (Mon, 03 Feb 2025) EllapsedTime: 7.1 seconds RetCode: 0 Status: OK