Package: minfi Version: 1.52.1 Command: /Library/Frameworks/R.framework/Resources/bin/R CMD build --keep-empty-dirs --no-resave-data minfi StartedAt: 2025-02-04 03:27:17 -0500 (Tue, 04 Feb 2025) EndedAt: 2025-02-04 03:29:32 -0500 (Tue, 04 Feb 2025) EllapsedTime: 134.5 seconds RetCode: 0 Status: OK PackageFile: minfi_1.52.1.tar.gz PackageFileSize: 505.5 KiB