Package: minfi Version: 1.52.1 Command: /Library/Frameworks/R.framework/Resources/bin/R CMD INSTALL minfi StartedAt: 2025-01-30 18:02:10 -0500 (Thu, 30 Jan 2025) EndedAt: 2025-01-30 18:03:08 -0500 (Thu, 30 Jan 2025) EllapsedTime: 58.3 seconds RetCode: 0 Status: OK