Package: minfi Version: 1.52.1 Command: /home/biocbuild/bbs-3.20-bioc/R/bin/R CMD build --keep-empty-dirs --no-resave-data --md5 minfi StartedAt: 2025-02-03 18:13:50 -0500 (Mon, 03 Feb 2025) EndedAt: 2025-02-03 18:15:25 -0500 (Mon, 03 Feb 2025) EllapsedTime: 95.1 seconds RetCode: 0 Status: OK PackageFile: minfi_1.52.1.tar.gz PackageFileSize: 510.9 KiB