Package: minfi Version: 1.52.1 Command: /home/biocbuild/bbs-3.20-bioc/R/bin/R CMD check --install=check:minfi.install-out.txt --library=/home/biocbuild/bbs-3.20-bioc/R/site-library --timings minfi_1.52.1.tar.gz StartedAt: 2025-02-04 00:09:32 -0500 (Tue, 04 Feb 2025) EndedAt: 2025-02-04 00:17:58 -0500 (Tue, 04 Feb 2025) EllapsedTime: 505.5 seconds RetCode: 0 Status: OK CheckDir: minfi.Rcheck Warnings: 0