Package: minfi Version: 1.52.1 Command: rm -rf minfi.buildbin-libdir && mkdir minfi.buildbin-libdir && F:\biocbuild\bbs-3.20-bioc\R\bin\R.exe CMD INSTALL --build --library=minfi.buildbin-libdir minfi_1.52.1.tar.gz StartedAt: 2025-02-04 08:56:02 -0500 (Tue, 04 Feb 2025) EndedAt: 2025-02-04 08:57:33 -0500 (Tue, 04 Feb 2025) EllapsedTime: 90.6 seconds RetCode: 0 Status: OK PackageFile: minfi_1.52.1.zip PackageFileSize: 1.556 MiB