Package: minfi Version: 1.52.1 Command: chmod a+r minfi -R && F:\biocbuild\bbs-3.20-bioc\R\bin\R.exe CMD build --keep-empty-dirs --no-resave-data minfi StartedAt: 2025-02-03 20:23:16 -0500 (Mon, 03 Feb 2025) EndedAt: 2025-02-03 20:25:48 -0500 (Mon, 03 Feb 2025) EllapsedTime: 152.7 seconds RetCode: 0 Status: OK PackageFile: minfi_1.52.1.tar.gz PackageFileSize: 505.6 KiB