Package: minfi Version: 1.52.1 Command: F:\biocbuild\bbs-3.20-bioc\R\bin\R.exe CMD INSTALL minfi StartedAt: 2025-01-30 16:49:10 -0500 (Thu, 30 Jan 2025) EndedAt: 2025-01-30 16:50:43 -0500 (Thu, 30 Jan 2025) EllapsedTime: 92.3 seconds RetCode: 0 Status: OK