Package: minfi Version: 1.52.1 Command: /home/biocbuild/R/R/bin/R CMD check --install=check:minfi.install-out.txt --library=/home/biocbuild/R/R/site-library --no-vignettes --timings minfi_1.52.1.tar.gz StartedAt: 2025-02-04 08:49:27 -0000 (Tue, 04 Feb 2025) EndedAt: 2025-02-04 08:58:32 -0000 (Tue, 04 Feb 2025) EllapsedTime: 544.7 seconds RetCode: 0 Status: OK CheckDir: minfi.Rcheck Warnings: 0