Package: minfi Version: 1.52.1 Command: /home/biocbuild/R/R/bin/R CMD INSTALL minfi StartedAt: 2025-02-03 21:18:50 -0000 (Mon, 03 Feb 2025) EndedAt: 2025-02-03 21:19:52 -0000 (Mon, 03 Feb 2025) EllapsedTime: 62.5 seconds RetCode: 0 Status: OK