Package: missMethyl Version: 1.40.0 Command: /Library/Frameworks/R.framework/Resources/bin/R CMD check --install=check:missMethyl.install-out.txt --library=/Library/Frameworks/R.framework/Resources/library --no-vignettes --timings missMethyl_1.40.0.tar.gz StartedAt: 2025-02-12 01:37:36 -0500 (Wed, 12 Feb 2025) EndedAt: 2025-02-12 02:07:53 -0500 (Wed, 12 Feb 2025) EllapsedTime: 1817.6 seconds RetCode: 0 Status: WARNINGS CheckDir: missMethyl.Rcheck Warnings: 1