Package: missMethyl Version: 1.40.0 Command: /Library/Frameworks/R.framework/Resources/bin/R CMD INSTALL missMethyl StartedAt: 2025-02-10 18:13:05 -0500 (Mon, 10 Feb 2025) EndedAt: 2025-02-10 18:22:08 -0500 (Mon, 10 Feb 2025) EllapsedTime: 542.6 seconds RetCode: 0 Status: OK