Package: missMethyl Version: 1.40.0 Command: /Library/Frameworks/R.framework/Resources/bin/R CMD build --keep-empty-dirs --no-resave-data missMethyl StartedAt: 2025-02-03 20:22:40 -0500 (Mon, 03 Feb 2025) EndedAt: 2025-02-03 20:55:33 -0500 (Mon, 03 Feb 2025) EllapsedTime: 1973.0 seconds RetCode: 0 Status: OK PackageFile: missMethyl_1.40.0.tar.gz PackageFileSize: 1.505 MiB