Package: missMethyl Version: 1.40.0 Command: /home/biocbuild/bbs-3.20-bioc/R/bin/R CMD check --install=check:missMethyl.install-out.txt --library=/home/biocbuild/bbs-3.20-bioc/R/site-library --timings missMethyl_1.40.0.tar.gz StartedAt: 2025-02-04 00:13:43 -0500 (Tue, 04 Feb 2025) EndedAt: 2025-02-04 00:46:11 -0500 (Tue, 04 Feb 2025) EllapsedTime: 1948.1 seconds RetCode: 0 Status: WARNINGS CheckDir: missMethyl.Rcheck Warnings: 1