Package: missMethyl Version: 1.40.0 Command: /home/biocbuild/bbs-3.20-bioc/R/bin/R CMD INSTALL missMethyl StartedAt: 2025-02-10 16:03:12 -0500 (Mon, 10 Feb 2025) EndedAt: 2025-02-10 16:08:00 -0500 (Mon, 10 Feb 2025) EllapsedTime: 288.1 seconds RetCode: 0 Status: OK