Package: missMethyl Version: 1.40.0 Command: rm -rf missMethyl.buildbin-libdir && mkdir missMethyl.buildbin-libdir && F:\biocbuild\bbs-3.20-bioc\R\bin\R.exe CMD INSTALL --build --library=missMethyl.buildbin-libdir missMethyl_1.40.0.tar.gz StartedAt: 2025-01-31 09:04:06 -0500 (Fri, 31 Jan 2025) EndedAt: 2025-01-31 09:10:17 -0500 (Fri, 31 Jan 2025) EllapsedTime: 370.9 seconds RetCode: 0 Status: OK PackageFile: missMethyl_1.40.0.zip PackageFileSize: 753.3 KiB