Package: missMethyl Version: 1.40.0 Command: /home/biocbuild/R/R/bin/R CMD INSTALL missMethyl StartedAt: 2025-02-10 21:05:44 -0000 (Mon, 10 Feb 2025) EndedAt: 2025-02-10 21:12:21 -0000 (Mon, 10 Feb 2025) EllapsedTime: 396.1 seconds RetCode: 0 Status: OK