Package: mistyR Version: 1.14.0 Command: /Library/Frameworks/R.framework/Resources/bin/R CMD build --keep-empty-dirs --no-resave-data mistyR StartedAt: 2025-02-04 03:35:53 -0500 (Tue, 04 Feb 2025) EndedAt: 2025-02-04 03:38:54 -0500 (Tue, 04 Feb 2025) EllapsedTime: 180.6 seconds RetCode: 0 Status: OK PackageFile: mistyR_1.14.0.tar.gz PackageFileSize: 3.1 MiB