Package: mistyR Version: 1.14.0 Command: /Library/Frameworks/R.framework/Resources/bin/R CMD check --install=check:mistyR.install-out.txt --library=/Library/Frameworks/R.framework/Resources/library --no-vignettes --timings mistyR_1.14.0.tar.gz StartedAt: 2025-02-05 02:13:00 -0500 (Wed, 05 Feb 2025) EndedAt: 2025-02-05 02:19:04 -0500 (Wed, 05 Feb 2025) EllapsedTime: 364.3 seconds RetCode: 1 Status: ERROR CheckDir: mistyR.Rcheck Warnings: NA