Package: mistyR Version: 1.14.0 Command: /Library/Frameworks/R.framework/Resources/bin/R CMD INSTALL mistyR StartedAt: 2025-02-03 17:35:57 -0500 (Mon, 03 Feb 2025) EndedAt: 2025-02-03 17:36:03 -0500 (Mon, 03 Feb 2025) EllapsedTime: 5.8 seconds RetCode: 0 Status: OK