Package: mistyR Version: 1.14.0 Command: /home/biocbuild/R/R/bin/R CMD build --keep-empty-dirs --no-resave-data mistyR StartedAt: 2024-11-20 02:10:30 -0000 (Wed, 20 Nov 2024) EndedAt: 2024-11-20 02:13:28 -0000 (Wed, 20 Nov 2024) EllapsedTime: 178.2 seconds RetCode: 0 Status: OK PackageFile: mistyR_1.14.0.tar.gz PackageFileSize: 2.867 MiB