Package: mistyR Version: 1.14.0 Command: /Library/Frameworks/R.framework/Resources/bin/R CMD build --keep-empty-dirs --no-resave-data mistyR StartedAt: 2025-02-03 20:22:50 -0500 (Mon, 03 Feb 2025) EndedAt: 2025-02-03 20:27:30 -0500 (Mon, 03 Feb 2025) EllapsedTime: 280.5 seconds RetCode: 0 Status: OK PackageFile: mistyR_1.14.0.tar.gz PackageFileSize: 3.1 MiB