Package: mistyR Version: 1.14.0 Command: /Library/Frameworks/R.framework/Resources/bin/R CMD check --install=check:mistyR.install-out.txt --library=/Library/Frameworks/R.framework/Resources/library --no-vignettes --timings mistyR_1.14.0.tar.gz StartedAt: 2025-02-04 06:30:31 -0500 (Tue, 04 Feb 2025) EndedAt: 2025-02-04 06:57:18 -0500 (Tue, 04 Feb 2025) EllapsedTime: 1606.5 seconds RetCode: 0 Status: OK CheckDir: mistyR.Rcheck Warnings: 0