Package: mistyR Version: 1.14.0 Command: /home/biocbuild/bbs-3.20-bioc/R/bin/R CMD build --keep-empty-dirs --no-resave-data --md5 mistyR StartedAt: 2025-02-10 18:08:06 -0500 (Mon, 10 Feb 2025) EndedAt: 2025-02-10 18:10:17 -0500 (Mon, 10 Feb 2025) EllapsedTime: 130.1 seconds RetCode: 0 Status: OK PackageFile: mistyR_1.14.0.tar.gz PackageFileSize: 2.988 MiB