Package: mitoClone2 Version: 1.12.0 Command: rm -rf mitoClone2.buildbin-libdir && mkdir mitoClone2.buildbin-libdir && /Users/biocbuild/BBS/utils/build-universal.sh mitoClone2_1.12.0.tar.gz /Library/Frameworks/R.framework/Resources/bin/R mitoClone2.buildbin-libdir StartedAt: 2025-02-05 16:42:19 -0500 (Wed, 05 Feb 2025) EndedAt: 2025-02-05 16:43:26 -0500 (Wed, 05 Feb 2025) EllapsedTime: 67.8 seconds RetCode: 0 Status: OK PackageFile: mitoClone2_1.12.0.tgz PackageFileSize: 1.98 MiB