Package: mitoClone2 Version: 1.12.0 Command: /Library/Frameworks/R.framework/Resources/bin/R CMD build --keep-empty-dirs --no-resave-data mitoClone2 StartedAt: 2025-02-04 03:38:25 -0500 (Tue, 04 Feb 2025) EndedAt: 2025-02-04 03:46:34 -0500 (Tue, 04 Feb 2025) EllapsedTime: 489.7 seconds RetCode: 0 Status: OK PackageFile: mitoClone2_1.12.0.tar.gz PackageFileSize: 1.444 MiB