Package: mitoClone2 Version: 1.12.0 Command: /Library/Frameworks/R.framework/Resources/bin/R CMD check --install=check:mitoClone2.install-out.txt --library=/Library/Frameworks/R.framework/Resources/library --no-vignettes --timings mitoClone2_1.12.0.tar.gz StartedAt: 2025-02-05 02:16:39 -0500 (Wed, 05 Feb 2025) EndedAt: 2025-02-05 02:24:12 -0500 (Wed, 05 Feb 2025) EllapsedTime: 452.4 seconds RetCode: 0 Status: WARNINGS CheckDir: mitoClone2.Rcheck Warnings: 2