Package: mitoClone2 Version: 1.12.0 Command: /Library/Frameworks/R.framework/Resources/bin/R CMD INSTALL mitoClone2 StartedAt: 2025-02-03 16:06:30 -0500 (Mon, 03 Feb 2025) EndedAt: 2025-02-03 16:07:31 -0500 (Mon, 03 Feb 2025) EllapsedTime: 61.1 seconds RetCode: 0 Status: OK