Package: mitoClone2 Version: 1.12.0 Command: rm -rf mitoClone2.buildbin-libdir && mkdir mitoClone2.buildbin-libdir && /Users/biocbuild/BBS/utils/build-universal.sh mitoClone2_1.12.0.tar.gz /Library/Frameworks/R.framework/Resources/bin/R mitoClone2.buildbin-libdir StartedAt: 2025-02-11 13:49:13 -0500 (Tue, 11 Feb 2025) EndedAt: 2025-02-11 13:52:05 -0500 (Tue, 11 Feb 2025) EllapsedTime: 172.0 seconds RetCode: 0 Status: OK PackageFile: mitoClone2_1.12.0.tgz PackageFileSize: 2.077 MiB