Package: mitoClone2 Version: 1.12.0 Command: /home/biocbuild/bbs-3.20-bioc/R/bin/R CMD build --keep-empty-dirs --no-resave-data --md5 mitoClone2 StartedAt: 2025-02-10 18:08:20 -0500 (Mon, 10 Feb 2025) EndedAt: 2025-02-10 18:13:03 -0500 (Mon, 10 Feb 2025) EllapsedTime: 282.3 seconds RetCode: 0 Status: OK PackageFile: mitoClone2_1.12.0.tar.gz PackageFileSize: 1.445 MiB