Package: mitoClone2 Version: 1.12.0 Command: rm -rf mitoClone2.buildbin-libdir && mkdir mitoClone2.buildbin-libdir && F:\biocbuild\bbs-3.20-bioc\R\bin\R.exe CMD INSTALL --build --library=mitoClone2.buildbin-libdir mitoClone2_1.12.0.tar.gz StartedAt: 2025-02-04 08:57:10 -0500 (Tue, 04 Feb 2025) EndedAt: 2025-02-04 08:58:24 -0500 (Tue, 04 Feb 2025) EllapsedTime: 74.6 seconds RetCode: 0 Status: OK PackageFile: mitoClone2_1.12.0.zip PackageFileSize: 6.728 MiB