Package: mitoClone2 Version: 1.12.0 Command: /home/biocbuild/R/R/bin/R CMD check --install=check:mitoClone2.install-out.txt --library=/home/biocbuild/R/R/site-library --no-vignettes --timings mitoClone2_1.12.0.tar.gz StartedAt: 2025-02-04 08:53:48 -0000 (Tue, 04 Feb 2025) EndedAt: 2025-02-04 09:00:41 -0000 (Tue, 04 Feb 2025) EllapsedTime: 413.5 seconds RetCode: 0 Status: WARNINGS CheckDir: mitoClone2.Rcheck Warnings: 2