Package: mitoClone2 Version: 1.12.0 Command: /home/biocbuild/R/R/bin/R CMD INSTALL mitoClone2 StartedAt: 2025-02-03 20:44:41 -0000 (Mon, 03 Feb 2025) EndedAt: 2025-02-03 20:45:44 -0000 (Mon, 03 Feb 2025) EllapsedTime: 63.3 seconds RetCode: 0 Status: OK