Package: moanin Version: 1.14.0 Command: /Library/Frameworks/R.framework/Resources/bin/R CMD INSTALL moanin StartedAt: 2025-02-10 15:48:08 -0500 (Mon, 10 Feb 2025) EndedAt: 2025-02-10 15:48:47 -0500 (Mon, 10 Feb 2025) EllapsedTime: 39.2 seconds RetCode: 0 Status: OK