Package: moanin Version: 1.14.0 Command: /Library/Frameworks/R.framework/Resources/bin/R CMD INSTALL moanin StartedAt: 2025-02-03 15:43:58 -0500 (Mon, 03 Feb 2025) EndedAt: 2025-02-03 15:45:12 -0500 (Mon, 03 Feb 2025) EllapsedTime: 73.5 seconds RetCode: 0 Status: OK