Package: moanin Version: 1.14.0 Command: rm -rf moanin.buildbin-libdir && mkdir moanin.buildbin-libdir && F:\biocbuild\bbs-3.20-bioc\R\bin\R.exe CMD INSTALL --build --library=moanin.buildbin-libdir moanin_1.14.0.tar.gz StartedAt: 2025-02-04 08:57:42 -0500 (Tue, 04 Feb 2025) EndedAt: 2025-02-04 08:58:41 -0500 (Tue, 04 Feb 2025) EllapsedTime: 58.9 seconds RetCode: 0 Status: OK PackageFile: moanin_1.14.0.zip PackageFileSize: 924.5 KiB