Package: moanin Version: 1.14.0 Command: chmod a+r moanin -R && F:\biocbuild\bbs-3.20-bioc\R\bin\R.exe CMD build --keep-empty-dirs --no-resave-data moanin StartedAt: 2025-02-03 20:27:19 -0500 (Mon, 03 Feb 2025) EndedAt: 2025-02-03 20:28:56 -0500 (Mon, 03 Feb 2025) EllapsedTime: 97.1 seconds RetCode: 0 Status: OK PackageFile: moanin_1.14.0.tar.gz PackageFileSize: 477.5 KiB