Package: moanin Version: 1.14.0 Command: /home/biocbuild/R/R/bin/R CMD build --keep-empty-dirs --no-resave-data moanin StartedAt: 2025-01-31 01:01:10 -0000 (Fri, 31 Jan 2025) EndedAt: 2025-01-31 01:02:41 -0000 (Fri, 31 Jan 2025) EllapsedTime: 91.1 seconds RetCode: 0 Status: OK PackageFile: moanin_1.14.0.tar.gz PackageFileSize: 485.6 KiB