Package: mobileRNA Version: 1.2.0 Command: /Library/Frameworks/R.framework/Resources/bin/R CMD check --install=check:mobileRNA.install-out.txt --library=/Library/Frameworks/R.framework/Resources/library --no-vignettes --timings mobileRNA_1.2.0.tar.gz StartedAt: 2025-02-05 02:24:41 -0500 (Wed, 05 Feb 2025) EndedAt: 2025-02-05 02:30:05 -0500 (Wed, 05 Feb 2025) EllapsedTime: 324.1 seconds RetCode: 0 Status: OK CheckDir: mobileRNA.Rcheck Warnings: 0